BEGIN:VCALENDAR
VERSION:2.0
PRODID:-//Be Hers - ECPv4.9.9//NONSGML v1.0//EN
CALSCALE:GREGORIAN
METHOD:PUBLISH
X-WR-CALNAME:Be Hers
X-ORIGINAL-URL:https://behers.org.au
X-WR-CALDESC:Events for Be Hers
BEGIN:VTIMEZONE
TZID:Australia/Hobart
BEGIN:STANDARD
TZOFFSETFROM:+1100
TZOFFSETTO:+1000
TZNAME:AEST
DTSTART:20190406T160000
END:STANDARD
BEGIN:DAYLIGHT
TZOFFSETFROM:+1000
TZOFFSETTO:+1100
TZNAME:AEDT
DTSTART:20191005T160000
END:DAYLIGHT
END:VTIMEZONE
BEGIN:VEVENT
DTSTART;TZID=Australia/Hobart:20190914T090000
DTEND;TZID=Australia/Hobart:20190914T120000
DTSTAMP:20200302T032138
CREATED:20190808T054746Z
LAST-MODIFIED:20190915T225229Z
UID:20620-1568451600-1568462400@behers.org.au
SUMMARY:Freedom Gathering Perth
DESCRIPTION:\n\n\n\n\n\n\nGET ALONG TO OUR FIRST Freedom Gathering!\n  \nJoin us for a champagne breakfast! Learn more about Be Hers and how you can be involved\, and use whats in your hands to bring freedom to those who have had theirs stolen. It will be a powerful and encouraging morning you won’t want to miss! \n\n\n\n\n\n\n\n\n
URL:/event/freedom-gathering-perth/
LOCATION:Gordon Street Garage\, 16 Gordon Street\, West Perth\, WA\, 6005\, Australia
END:VEVENT
END:VCALENDAR