BEGIN:VCALENDAR
VERSION:2.0
PRODID:-//Be Hers - ECPv4.9.9//NONSGML v1.0//EN
CALSCALE:GREGORIAN
METHOD:PUBLISH
X-WR-CALNAME:Be Hers
X-ORIGINAL-URL:https://behers.org.au
X-WR-CALDESC:Events for Be Hers
BEGIN:VTIMEZONE
TZID:UTC
BEGIN:STANDARD
TZOFFSETFROM:+0000
TZOFFSETTO:+0000
TZNAME:UTC
DTSTART:20190101T000000
END:STANDARD
END:VTIMEZONE
BEGIN:VEVENT
DTSTART;TZID=UTC:20190921T180000
DTEND;TZID=UTC:20190921T220000
DTSTAMP:20200302T032206
CREATED:20190212T130909Z
LAST-MODIFIED:20190913T012017Z
UID:16792-1569088800-1569103200@behers.org.au
SUMMARY:Be Her Freedom Hobart
DESCRIPTION:\n\n\n\n\n\n\n  \n\n\n\n\n\n\n\n\n\n\n\n\n\n\nIT’S TIME TO GET THE GIRLS together!\n  \n  \nEnjoy incredible food\, entertainment\, inspiring speakers\, and our dance floor you have to experience for yourself! \nDRESS: Shades of white or whatever makes you feel beautiful\, darling! \nTickets include kombucha on arrival\, grazing platters\, canapés\, shared mains and delicious desserts! \nThis year we have something special… with our second ticket option you can get a free wine or champagne and one of our limited edition Be Hers keep cups at 60% off the retail price! \n  \n\n\n\n\n\n\n\n\n\n\n\n\n\n\n\n\n  \n  \n  \n  \n  \n\n\n\n\n\n\n\n\n\n\n\n
URL:/event/be-her-freedom/
LOCATION:Mac 2\, 18 Hunter Street\, Hobart\, TAS\, Australia
CATEGORIES:Be Her Freedom
END:VEVENT
END:VCALENDAR